Back to the "Multiple platform build/check report"
| Package 142/172 | OS | Arch | BUILD | CHECK | BUILD BIN | 
RMAPPER1.2.0VJ Carey | Linux (SUSE 9.2) | x86_64 | OK | OK | |
| Linux (SUSE 9.2) | i686 | OK | OK | ||
| Solaris 2.9 | sparc | OK | OK | ||
| Linux (SUSE 10.0) | x86_64 | OK | [ OK ] | ||
| Windows Server 2003 | x86_64 | OK | OK | OK | 
| Package: RMAPPER | 
| Version: 1.2.0 | 
| Command: /home/biocbuild/1.8d/R/bin/R CMD check RMAPPER_1.2.0.tar.gz | 
| RetCode: 0 | 
| Time: 9.5 seconds | 
| Status: OK | 
| CheckDir: RMAPPER.Rcheck | 
| Warnings: 0 | 
* checking for working latex ... OK * using log directory '/home/biocbuild/1.8d/Rpacks/RMAPPER.Rcheck' * using Version 2.3.1 (2006-06-01) * checking for file 'RMAPPER/DESCRIPTION' ... OK * this is package 'RMAPPER' version '1.2.0' * checking package dependencies ... OK * checking if this is a source package ... OK * checking whether package 'RMAPPER' can be installed ... OK * checking package directory ... OK * checking for portable file names ... OK * checking for sufficient/correct file permissions ... OK * checking DESCRIPTION meta-information ... OK * checking top-level files ... OK * checking index information ... OK * checking package subdirectories ... OK * checking R files for syntax errors ... OK * checking R files for library.dynam ... OK * checking S3 generic/method consistency ... OK * checking replacement functions ... OK * checking foreign function calls ... OK * checking Rd files ... OK * checking for missing documentation entries ... OK * checking for code/documentation mismatches ... OK * checking Rd \usage sections ... OK * creating RMAPPER-Ex.R ... OK * checking examples ... OK * creating RMAPPER-manual.tex ... OK * checking RMAPPER-manual.tex ... OK
RMAPPER.Rcheck/00install.out:
* Installing *source* package 'RMAPPER' ...
** R
** inst
** help
 >>> Building/Updating help pages for package 'RMAPPER'
     Formats: text html latex example 
  mapperHits-class                  text    html    latex   example
  readMapper                        text    html    latex   example
** building package indices ...
* DONE (RMAPPER)