Back to the "Multiple platform build/check report"
| Package 104/172 | OS | Arch | BUILD | CHECK | BUILD BIN |
Mfuzz1.0.0Matthias Futschik | Linux (SUSE 9.2) | x86_64 | OK | OK | |
| Linux (SUSE 9.2) | i686 | OK | OK | ||
| Solaris 2.9 | sparc | OK | OK | ||
| Linux (SUSE 10.0) | x86_64 | OK | [ OK ] | ||
| Windows Server 2003 | x86_64 | OK | OK | OK |
| Package: Mfuzz |
| Version: 1.0.0 |
| Command: /home/biocbuild/1.8d/R/bin/R CMD check Mfuzz_1.0.0.tar.gz |
| RetCode: 0 |
| Time: 18.5 seconds |
| Status: OK |
| CheckDir: Mfuzz.Rcheck |
| Warnings: 0 |
* checking for working latex ... OK * using log directory '/home/biocbuild/1.8d/Rpacks/Mfuzz.Rcheck' * using Version 2.3.1 (2006-06-01) * checking for file 'Mfuzz/DESCRIPTION' ... OK * this is package 'Mfuzz' version '1.0.0' * checking package dependencies ... OK * checking if this is a source package ... OK * checking whether package 'Mfuzz' can be installed ... OK * checking package directory ... OK * checking for portable file names ... OK * checking for sufficient/correct file permissions ... OK * checking DESCRIPTION meta-information ... OK * checking top-level files ... OK * checking index information ... OK * checking package subdirectories ... OK * checking R files for syntax errors ... OK * checking R files for library.dynam ... OK * checking S3 generic/method consistency ... OK * checking replacement functions ... OK * checking foreign function calls ... OK * checking Rd files ... OK * checking for missing documentation entries ... OK * checking for code/documentation mismatches ... OK * checking Rd \usage sections ... OK * creating Mfuzz-Ex.R ... OK * checking examples ... OK * checking package vignettes in 'inst/doc' ... OK * creating Mfuzz-manual.tex ... OK * checking Mfuzz-manual.tex ... OK
Mfuzz.Rcheck/00install.out:
* Installing *source* package 'Mfuzz' ...
** R
** data
** inst
** help
Warning message:
incomplete final line found by readLines on './man/mfuzzColorBar.Rd'
>>> Building/Updating help pages for package 'Mfuzz'
Formats: text html latex example
acore text html latex example
cselection text html latex example
fill.NA text html latex example
filter.NA text html latex example
filter.std text html latex example
kmeans2 text html latex example
kmeans2.plot text html latex example
mfuzz text html latex example
mfuzz.plot text html latex example
mfuzzColorBar text html latex example
overlap text html latex example
overlap.plot text html latex example
partcoef text html latex example
randomise text html latex example
standardise text html latex example
standardise2 text html latex example
top.count text html latex example
yeast text html latex
** building package indices ...
* DONE (Mfuzz)