Back to the "Multiple platform build/check report"
| Package 73/172 | OS | Arch | BUILD | CHECK | BUILD BIN |
GraphAT1.4.0Thomas LaFramboise | Linux (SUSE 9.2) | x86_64 | OK | OK | |
| Linux (SUSE 9.2) | i686 | OK | OK | ||
| Solaris 2.9 | sparc | OK | OK | ||
| Linux (SUSE 10.0) | x86_64 | OK | [ OK ] | ||
| Windows Server 2003 | x86_64 | OK | OK | OK |
| Package: GraphAT |
| Version: 1.4.0 |
| Command: /home/biocbuild/1.8d/R/bin/R CMD check GraphAT_1.4.0.tar.gz |
| RetCode: 0 |
| Time: 48.1 seconds |
| Status: OK |
| CheckDir: GraphAT.Rcheck |
| Warnings: 0 |
* checking for working latex ... OK * using log directory '/home/biocbuild/1.8d/Rpacks/GraphAT.Rcheck' * using Version 2.3.1 (2006-06-01) * checking for file 'GraphAT/DESCRIPTION' ... OK * this is package 'GraphAT' version '1.4.0' * checking package dependencies ... OK * checking if this is a source package ... OK * checking whether package 'GraphAT' can be installed ... OK * checking package directory ... OK * checking for portable file names ... OK * checking for sufficient/correct file permissions ... OK * checking DESCRIPTION meta-information ... OK * checking top-level files ... OK * checking index information ... OK * checking package subdirectories ... OK * checking R files for syntax errors ... OK * checking R files for library.dynam ... OK * checking S3 generic/method consistency ... OK * checking replacement functions ... OK * checking foreign function calls ... OK * checking Rd files ... OK * checking for missing documentation entries ... OK * checking for code/documentation mismatches ... OK * checking Rd \usage sections ... OK * creating GraphAT-Ex.R ... OK * checking examples ... OK * creating GraphAT-manual.tex ... OK * checking GraphAT-manual.tex ... OK
GraphAT.Rcheck/00install.out:
* Installing *source* package 'GraphAT' ...
** R
** data
** help
>>> Building/Updating help pages for package 'GraphAT'
Formats: text html latex example
Phenoclusters text html latex example
causton text html latex example
cellcycle text html latex example
clust2Mat text html latex example
depthmat text html latex example
getpvalue text html latex example
giaever text html latex example
mRNAclusters text html latex example
makeClustM text html latex example
mat2UndirG text html latex example
permPower text html latex example
perms text html latex example
** building package indices ...
* DONE (GraphAT)