1.10.2Katherine S. Pollard | Linux (SUSE 9.2)  | x86_64 |  OK  |  OK  |  | 
| Linux (SUSE 9.2)  | i686 |  OK  |  OK  |  | 
| Solaris 2.9  | sparc | [ OK ] |  OK  |  | 
| Linux (SUSE 10.0)  | x86_64 |  OK  |  OK  |  | 
| Windows Server 2003  | x86_64 |  OK  |  OK  |  OK  | 
* checking for file 'multtest/DESCRIPTION' ... OK
* preparing 'multtest':
* checking DESCRIPTION meta-information ... OK
* cleaning src
* checking whether 'INDEX' is up-to-date ... NO
* use '--force' to overwrite the existing 'INDEX'
* removing junk files
* checking for LF line-endings in source files
* checking for empty or unneeded directories
* building 'multtest_1.10.2.tar.gz'