1.0.0Seth Falcon | Linux (SUSE 9.2) | x86_64 | OK | OK | |
Linux (SUSE 9.2) | i686 | OK | OK | |
Solaris 2.9 | sparc | [ ERROR ] | skipped | |
Linux (SUSE 10.0) | x86_64 | OK | OK | |
Windows Server 2003 | x86_64 | OK | OK | OK |
* checking for file 'biocViews/DESCRIPTION' ... OK
* preparing 'biocViews':
* checking DESCRIPTION meta-information ... OK
* installing the package to re-build vignettes
* Installing *source* package 'biocViews' ...
** R
** data
** inst
** preparing package for lazy loading
Loading required package: tools
Loading required package: graph
Loading required package: Ruuid
Loading required package: RBGL
Error: package 'RBGL' could not be loaded
In addition: Warning message:
there is no package called 'RBGL' in: library(pkg, character.only = TRUE, logical = TRUE, lib.loc = lib.loc)
Execution halted
ERROR: lazy loading failed for package 'biocViews'
** Removing '/tmp/Rinst2025842925/biocViews'
ERROR
Installation failed.
Removing '/tmp/Rinst2025842925'