1.4.0James W. MacDonald | Linux (SUSE 9.2) | x86_64 | OK | OK | |
Linux (SUSE 9.2) | i686 | OK | OK | |
Solaris 2.9 | sparc | [ ERROR ] | skipped | |
Linux (SUSE 10.0) | x86_64 | OK | OK | |
Windows Server 2003 | x86_64 | OK | OK | OK |
* checking for file 'affycoretools/DESCRIPTION' ... OK
* preparing 'affycoretools':
* checking DESCRIPTION meta-information ... OK
* installing the package to re-build vignettes
* Installing *source* package 'affycoretools' ...
** R
** inst
** preparing package for lazy loading
Loading required package: affy
Loading required package: Biobase
Loading required package: tools
Welcome to Bioconductor
Vignettes contain introductory material. To view, type
'openVignette()' or start with 'help(Biobase)'. For details
on reading vignettes, see the openVignette help page.
Loading required package: affyio
Loading required package: limma
Loading required package: GOstats
Loading required package: graph
Loading required package: Ruuid
Loading required package: GO
Loading required package: annotate
Loading required package: RBGL
Error: package 'RBGL' could not be loaded
In addition: Warning message:
there is no package called 'RBGL' in: library(pkg, character.only = TRUE, logical = TRUE, lib.loc = lib.loc)
Execution halted
ERROR: lazy loading failed for package 'affycoretools'
** Removing '/tmp/Rinst2166685402/affycoretools'
ERROR
Installation failed.
Removing '/tmp/Rinst2166685402'