Package: variants Version: 1.32.0 Command: /home/biocbuild/bbs-3.21-bioc/R/bin/R CMD INSTALL variants StartedAt: 2025-10-07 13:00:21 -0400 (Tue, 07 Oct 2025) EndedAt: 2025-10-07 13:00:48 -0400 (Tue, 07 Oct 2025) EllapsedTime: 27.2 seconds RetCode: 0 Status: OK