Package: variants Version: 1.32.0 Command: /home/biocbuild/bbs-3.21-bioc/R/bin/R CMD build --keep-empty-dirs --no-resave-data variants StartedAt: 2025-10-07 13:12:10 -0400 (Tue, 07 Oct 2025) EndedAt: 2025-10-07 13:13:16 -0400 (Tue, 07 Oct 2025) EllapsedTime: 65.3 seconds RetCode: 0 Status: OK PackageFile: variants_1.32.0.tar.gz PackageFileSize: 4.84 MiB