Package: spicyWorkflow Version: 1.10.0 Command: /home/biocbuild/bbs-3.22-bioc/R/bin/R CMD INSTALL spicyWorkflow StartedAt: 2025-11-04 13:00:18 -0500 (Tue, 04 Nov 2025) EndedAt: 2025-11-04 13:00:23 -0500 (Tue, 04 Nov 2025) EllapsedTime: 4.5 seconds RetCode: 0 Status: OK