Package: spicyWorkflow Version: 1.8.0 Command: /home/biocbuild/bbs-3.21-bioc/R/bin/R CMD INSTALL spicyWorkflow StartedAt: 2025-10-14 13:00:13 -0400 (Tue, 14 Oct 2025) EndedAt: 2025-10-14 13:00:17 -0400 (Tue, 14 Oct 2025) EllapsedTime: 4.5 seconds RetCode: 0 Status: OK