Package: spicyWorkflow Version: 1.8.0 Command: /home/biocbuild/bbs-3.21-bioc/R/bin/R CMD build --keep-empty-dirs --no-resave-data spicyWorkflow StartedAt: 2025-10-14 13:12:08 -0400 (Tue, 14 Oct 2025) EndedAt: 2025-10-14 13:43:09 -0400 (Tue, 14 Oct 2025) EllapsedTime: 1861.1 seconds RetCode: 1 Status: ERROR PackageFile: None PackageFileSize: NA