Package: spicyWorkflow Version: 1.10.0 Maintainer: SOMS Maintainer MaintainerEmail: maths.bioconductor at sydney.edu.au git_url: https://git.bioconductor.org/packages/spicyWorkflow git_branch: RELEASE_3_22 git_last_commit: 548913c git_last_commit_date: 2025-10-29 09:47:43 -0500 (Wed, 29 Oct 2025)