Package: simpleSingleCell Version: 1.34.0 Command: /home/biocbuild/bbs-3.22-bioc/R/bin/R CMD INSTALL simpleSingleCell StartedAt: 2025-11-04 13:00:22 -0500 (Tue, 04 Nov 2025) EndedAt: 2025-11-04 13:00:26 -0500 (Tue, 04 Nov 2025) EllapsedTime: 4.4 seconds RetCode: 0 Status: OK