Package: simpleSingleCell Version: 1.34.0 Command: /home/biocbuild/bbs-3.22-bioc/R/bin/R CMD build --keep-empty-dirs --no-resave-data simpleSingleCell StartedAt: 2025-11-04 13:11:47 -0500 (Tue, 04 Nov 2025) EndedAt: 2025-11-04 13:12:24 -0500 (Tue, 04 Nov 2025) EllapsedTime: 37.0 seconds RetCode: 0 Status: OK PackageFile: simpleSingleCell_1.34.0.tar.gz PackageFileSize: 2.755 MiB