Package: simpleSingleCell Version: 1.32.0 Command: /home/biocbuild/bbs-3.21-bioc/R/bin/R CMD INSTALL simpleSingleCell StartedAt: 2025-10-14 13:00:16 -0400 (Tue, 14 Oct 2025) EndedAt: 2025-10-14 13:00:21 -0400 (Tue, 14 Oct 2025) EllapsedTime: 4.6 seconds RetCode: 0 Status: OK