Package: simpleSingleCell Version: 1.32.0 Command: /home/biocbuild/bbs-3.21-bioc/R/bin/R CMD build --keep-empty-dirs --no-resave-data simpleSingleCell StartedAt: 2025-10-14 13:11:34 -0400 (Tue, 14 Oct 2025) EndedAt: 2025-10-14 13:12:11 -0400 (Tue, 14 Oct 2025) EllapsedTime: 37.0 seconds RetCode: 0 Status: OK PackageFile: simpleSingleCell_1.32.0.tar.gz PackageFileSize: 2.755 MiB