Package: sequencing Version: 1.32.0 Command: /home/biocbuild/bbs-3.21-bioc/R/bin/R CMD INSTALL sequencing StartedAt: 2025-10-03 13:00:17 -0400 (Fri, 03 Oct 2025) EndedAt: 2025-10-03 13:00:45 -0400 (Fri, 03 Oct 2025) EllapsedTime: 27.3 seconds RetCode: 0 Status: OK