Package: seqpac Version: 1.9.2 Command: /home/biocbuild/bbs-3.22-bioc/R/bin/R CMD INSTALL seqpac StartedAt: 2025-10-28 13:00:19 -0400 (Tue, 28 Oct 2025) EndedAt: 2025-10-28 13:00:33 -0400 (Tue, 28 Oct 2025) EllapsedTime: 13.4 seconds RetCode: 0 Status: OK