Package: seqpac Version: 1.9.2 Command: /Library/Frameworks/R.framework/Resources/bin/R CMD INSTALL seqpac StartedAt: 2025-10-28 13:00:23 -0400 (Tue, 28 Oct 2025) EndedAt: 2025-10-28 13:00:34 -0400 (Tue, 28 Oct 2025) EllapsedTime: 11.7 seconds RetCode: 0 Status: OK