Package: seqpac Version: 1.9.2 Command: /Library/Frameworks/R.framework/Resources/bin/R CMD build --keep-empty-dirs --no-resave-data seqpac StartedAt: 2025-10-28 13:09:22 -0400 (Tue, 28 Oct 2025) EndedAt: 2025-10-28 13:12:16 -0400 (Tue, 28 Oct 2025) EllapsedTime: 174.2 seconds RetCode: 0 Status: OK PackageFile: seqpac_1.9.2.tar.gz PackageFileSize: 3.075 MiB