Package: seqpac Version: 1.10.0 Maintainer: Alessandro Gozzo MaintainerEmail: alessandro.gozzo at liu.se git_url: https://git.bioconductor.org/packages/seqpac git_branch: RELEASE_3_22 git_last_commit: 7b435c2 git_last_commit_date: 2025-10-29 09:47:40 -0500 (Wed, 29 Oct 2025)