Package: rnaseqGene Version: 1.34.0 Command: /Library/Frameworks/R.framework/Resources/bin/R CMD INSTALL rnaseqGene StartedAt: 2025-11-04 13:01:22 -0500 (Tue, 04 Nov 2025) EndedAt: 2025-11-04 13:01:57 -0500 (Tue, 04 Nov 2025) EllapsedTime: 35.2 seconds RetCode: 0 Status: OK