Package: rnaseqGene Version: 1.34.0 Command: /Library/Frameworks/R.framework/Resources/bin/R CMD build --keep-empty-dirs --no-resave-data rnaseqGene StartedAt: 2025-11-04 13:09:49 -0500 (Tue, 04 Nov 2025) EndedAt: 2025-11-04 13:12:17 -0500 (Tue, 04 Nov 2025) EllapsedTime: 148.1 seconds RetCode: 0 Status: OK PackageFile: rnaseqGene_1.34.0.tar.gz PackageFileSize: 1.799 MiB