Package: recountWorkflow Version: 1.34.0 Command: /home/biocbuild/bbs-3.22-bioc/R/bin/R CMD INSTALL recountWorkflow StartedAt: 2025-11-04 13:00:53 -0500 (Tue, 04 Nov 2025) EndedAt: 2025-11-04 13:02:00 -0500 (Tue, 04 Nov 2025) EllapsedTime: 66.7 seconds RetCode: 0 Status: OK