Package: recountWorkflow Version: 1.32.0 Command: /home/biocbuild/bbs-3.21-bioc/R/bin/R CMD INSTALL recountWorkflow StartedAt: 2025-10-10 13:00:32 -0400 (Fri, 10 Oct 2025) EndedAt: 2025-10-10 13:01:28 -0400 (Fri, 10 Oct 2025) EllapsedTime: 56.7 seconds RetCode: 0 Status: OK