Package: recountWorkflow Version: 1.32.0 Command: /home/biocbuild/bbs-3.21-bioc/R/bin/R CMD build --keep-empty-dirs --no-resave-data recountWorkflow StartedAt: 2025-10-10 13:07:34 -0400 (Fri, 10 Oct 2025) EndedAt: 2025-10-10 13:23:32 -0400 (Fri, 10 Oct 2025) EllapsedTime: 958.1 seconds RetCode: 0 Status: OK PackageFile: recountWorkflow_1.32.0.tar.gz PackageFileSize: 4.322 MiB