Package: recountWorkflow Version: 1.32.0 Command: /Library/Frameworks/R.framework/Resources/bin/R CMD INSTALL recountWorkflow StartedAt: 2025-10-14 13:02:10 -0400 (Tue, 14 Oct 2025) EndedAt: 2025-10-14 13:05:10 -0400 (Tue, 14 Oct 2025) EllapsedTime: 180.3 seconds RetCode: 0 Status: OK