Package: maEndToEnd Version: 2.30.0 Command: /home/biocbuild/bbs-3.22-bioc/R/bin/R CMD INSTALL maEndToEnd StartedAt: 2025-11-04 13:00:56 -0500 (Tue, 04 Nov 2025) EndedAt: 2025-11-04 13:01:29 -0500 (Tue, 04 Nov 2025) EllapsedTime: 32.8 seconds RetCode: 0 Status: OK