Package: maEndToEnd Version: 2.30.0 Command: /home/biocbuild/bbs-3.22-bioc/R/bin/R CMD build --keep-empty-dirs --no-resave-data maEndToEnd StartedAt: 2025-11-04 13:06:10 -0500 (Tue, 04 Nov 2025) EndedAt: 2025-11-04 13:19:35 -0500 (Tue, 04 Nov 2025) EllapsedTime: 805.4 seconds RetCode: 0 Status: OK PackageFile: maEndToEnd_2.30.0.tar.gz PackageFileSize: 4.337 MiB