Package: maEndToEnd Version: 2.28.0 Command: /home/biocbuild/bbs-3.21-bioc/R/bin/R CMD build --keep-empty-dirs --no-resave-data maEndToEnd StartedAt: 2025-10-14 13:06:02 -0400 (Tue, 14 Oct 2025) EndedAt: 2025-10-14 13:20:17 -0400 (Tue, 14 Oct 2025) EllapsedTime: 855.7 seconds RetCode: 0 Status: OK PackageFile: maEndToEnd_2.28.0.tar.gz PackageFileSize: 4.267 MiB