Package: liftOver Version: 1.34.0 Command: /Library/Frameworks/R.framework/Resources/bin/R CMD build --keep-empty-dirs --no-resave-data liftOver StartedAt: 2025-11-04 13:05:10 -0500 (Tue, 04 Nov 2025) EndedAt: 2025-11-04 13:06:02 -0500 (Tue, 04 Nov 2025) EllapsedTime: 52.6 seconds RetCode: 0 Status: OK PackageFile: liftOver_1.34.0.tar.gz PackageFileSize: 4.374 MiB