Workflows build report for BioC 3.22

This page was generated on 2025-11-04 16:30 -0500 (Tue, 04 Nov 2025).

Approx. Package Snapshot Date/Time (git pull): 2025-11-04 12:45 -0500 (Tue, 04 Nov 2025)
See this page for all the Bioconductor builds and their schedule.

HostnameOSArch (*)R versionInstalled pkgs
nebbiolo2Linux (Ubuntu 24.04.3 LTS)x86_644.5.1 Patched (2025-08-23 r88802) -- "Great Square Root" 4902
lconwaymacOS 12.7.6 Montereyx86_644.5.1 Patched (2025-09-10 r88807) -- "Great Square Root" 4692
Click on any hostname to see more info about the system (e.g. compilers)      (*) as reported by 'uname -p', except on Windows and Mac OS X

Package status is indicated by one of the following glyphs
  TIMEOUT  
INSTALL or BUILD of package took more than 40 or 180 minutes, respectively
  ERROR  
Bad DESCRIPTION file, or INSTALL or BUILD of package failed
  OK  
INSTALL or BUILD of package went OK
  NA  
INSTALL or BUILD result is not available because of an anomaly in the Build System
Click on any glyph in the report below to access the detailed report.
Package propagation status is indicated by one of the following LEDs
YES YES: Package was propagated because it didn't previously exist or version was bumped
NO NO: Package was not propagated because of a problem (impossible dependencies, or version lower than what is already propagated)
UNNEEDED UNNEEDED: Package was not propagated because it is already in the repository with this version. A version bump is required in order to propagate it

A crossed-out package name indicates that the package is deprecated


QUICK STATSOS / ArchINSTALLBUILD
nebbiolo2Linux (Ubuntu 24.04.3 LTS) / x86_64
0128
0326
lconwaymacOS 12.7.6 Monterey / x86_64
0028
0226
Package 1/29HostnameOS / ArchINSTALLBUILD
annotation 1.34.0  (landing page)
Bioconductor Package Maintainer
git_last_commit: 3c6832b
git_last_commit_date: 2025-10-29 09:46:25 -0500
nebbiolo2Linux (Ubuntu 24.04.3 LTS) / x86_64  OK    OK  YES
lconwaymacOS 12.7.6 Monterey / x86_64  OK    OK  
Package 2/29HostnameOS / ArchINSTALLBUILD
arrays 1.36.0  (landing page)
Bioconductor Package Maintainer
git_last_commit: c013f92
git_last_commit_date: 2025-10-29 09:46:28 -0500
nebbiolo2Linux (Ubuntu 24.04.3 LTS) / x86_64  OK    OK  YES
lconwaymacOS 12.7.6 Monterey / x86_64  OK    OK  
Package 3/29HostnameOS / ArchINSTALLBUILD
BP4RNAseq 1.20.0  (landing page)
Shanwen Sun
git_last_commit: 6ad6346
git_last_commit_date: 2025-10-29 09:47:30 -0500
nebbiolo2Linux (Ubuntu 24.04.3 LTS) / x86_64  OK    OK  YES
lconwaymacOS 12.7.6 Monterey / x86_64  OK    OK  
Package 4/29HostnameOS / ArchINSTALLBUILD
CAGEWorkflow 1.26.0  (landing page)
Malte Thodberg
git_last_commit: 9202cf2
git_last_commit_date: 2025-10-29 09:47:25 -0500
nebbiolo2Linux (Ubuntu 24.04.3 LTS) / x86_64  OK    OK  YES
lconwaymacOS 12.7.6 Monterey / x86_64  OK    OK  
Package 5/29HostnameOS / ArchINSTALLBUILD
chipseqDB 1.34.0  (landing page)
Aaron Lun
git_last_commit: 609e038
git_last_commit_date: 2025-10-29 09:46:30 -0500
nebbiolo2Linux (Ubuntu 24.04.3 LTS) / x86_64  OK    OK  YES
lconwaymacOS 12.7.6 Monterey / x86_64  OK    OK  
Package 6/29HostnameOS / ArchINSTALLBUILD
csawUsersGuide 1.26.0  (landing page)
Aaron Lun
git_last_commit: 5827d1b
git_last_commit_date: 2025-10-29 09:47:19 -0500
nebbiolo2Linux (Ubuntu 24.04.3 LTS) / x86_64  OK    OK  YES
lconwaymacOS 12.7.6 Monterey / x86_64  OK    OK  
Package 7/29HostnameOS / ArchINSTALLBUILD
cytofWorkflow 1.34.0  (landing page)
Mark D. Robinson
git_last_commit: 477096a
git_last_commit_date: 2025-10-29 09:46:33 -0500
nebbiolo2Linux (Ubuntu 24.04.3 LTS) / x86_64  OK    OK  YES
lconwaymacOS 12.7.6 Monterey / x86_64  OK    OK  
Package 8/29HostnameOS / ArchINSTALLBUILD
EGSEA123 1.34.0  (landing page)
Matthew Ritchie
git_last_commit: 8734dcd
git_last_commit_date: 2025-10-29 09:46:36 -0500
nebbiolo2Linux (Ubuntu 24.04.3 LTS) / x86_64  OK    OK  YES
lconwaymacOS 12.7.6 Monterey / x86_64  OK    OK  
Package 9/29HostnameOS / ArchINSTALLBUILD
ExpHunterSuite 1.18.0  (landing page)
James Perkins
git_last_commit: 238db2b
git_last_commit_date: 2025-10-29 09:47:33 -0500
nebbiolo2Linux (Ubuntu 24.04.3 LTS) / x86_64  OK    OK  NO, package depends on 'EnhancedVolcano' which is not available
lconwaymacOS 12.7.6 Monterey / x86_64  OK    OK  
Package 10/29HostnameOS / ArchINSTALLBUILD
ExpressionNormalizationWorkflow 1.36.0  (landing page)
Karthikeyan Murugesan
git_last_commit: 114add8
git_last_commit_date: 2025-10-29 09:46:38 -0500
nebbiolo2Linux (Ubuntu 24.04.3 LTS) / x86_64  OK    OK  YES
lconwaymacOS 12.7.6 Monterey / x86_64  OK    OK  
Package 11/29HostnameOS / ArchINSTALLBUILD
fluentGenomics 1.22.0  (landing page)
Stuart Lee
git_last_commit: 9eedd5f
git_last_commit_date: 2025-10-29 09:47:28 -0500
nebbiolo2Linux (Ubuntu 24.04.3 LTS) / x86_64  OK    OK  YES
lconwaymacOS 12.7.6 Monterey / x86_64  OK    OK  
Package 12/29HostnameOS / ArchINSTALLBUILD
generegulation 1.34.0  (landing page)
Bioconductor Package Maintainer
git_last_commit: dad79aa
git_last_commit_date: 2025-10-29 09:46:41 -0500
nebbiolo2Linux (Ubuntu 24.04.3 LTS) / x86_64  OK    OK  YES
lconwaymacOS 12.7.6 Monterey / x86_64  OK    OK  
Package 13/29HostnameOS / ArchINSTALLBUILD
GeoMxWorkflows 1.16.0  (landing page)
Maddy Griswold
git_last_commit: e7d5536
git_last_commit_date: 2025-10-29 09:47:36 -0500
nebbiolo2Linux (Ubuntu 24.04.3 LTS) / x86_64  OK    OK  YES
lconwaymacOS 12.7.6 Monterey / x86_64  OK    OK  
Package 14/29HostnameOS / ArchINSTALLBUILD
highthroughputassays 1.34.0  (landing page)
Bioconductor Package Maintainer
git_last_commit: fac7b5a
git_last_commit_date: 2025-10-29 09:46:44 -0500
nebbiolo2Linux (Ubuntu 24.04.3 LTS) / x86_64  OK    OK  YES
lconwaymacOS 12.7.6 Monterey / x86_64... NOT SUPPORTED ...
Package 15/29HostnameOS / ArchINSTALLBUILD
liftOver 1.34.0  (landing page)
Bioconductor Package Maintainer
git_last_commit: 5b55e44
git_last_commit_date: 2025-10-29 09:46:46 -0500
nebbiolo2Linux (Ubuntu 24.04.3 LTS) / x86_64  OK    OK  YES
lconwaymacOS 12.7.6 Monterey / x86_64  OK    OK  
Package 16/29HostnameOS / ArchINSTALLBUILD
maEndToEnd 2.30.0  (landing page)
Stefanie Reisenauer
git_last_commit: 11f1e93
git_last_commit_date: 2025-10-29 09:47:14 -0500
nebbiolo2Linux (Ubuntu 24.04.3 LTS) / x86_64  OK    OK  NO, package depends on 'arrayQualityMetrics' which is not available
lconwaymacOS 12.7.6 Monterey / x86_64  OK    OK  
Package 17/29HostnameOS / ArchINSTALLBUILD
methylationArrayAnalysis 1.34.0  (landing page)
Jovana Maksimovic
git_last_commit: 151d28d
git_last_commit_date: 2025-10-29 09:46:49 -0500
nebbiolo2Linux (Ubuntu 24.04.3 LTS) / x86_64  OK    OK  YES
lconwaymacOS 12.7.6 Monterey / x86_64  OK    OK  
Package 18/29HostnameOS / ArchINSTALLBUILD
recountWorkflow 1.34.0  (landing page)
Leonardo Collado-Torres
git_last_commit: 696c726
git_last_commit_date: 2025-10-29 09:46:52 -0500
nebbiolo2Linux (Ubuntu 24.04.3 LTS) / x86_64  OK    OK  YES
lconwaymacOS 12.7.6 Monterey / x86_64  OK    OK  
Package 19/29HostnameOS / ArchINSTALLBUILD
RNAseq123 1.34.0  (landing page)
Matthew Ritchie
git_last_commit: 00fed9e
git_last_commit_date: 2025-10-29 09:46:55 -0500
nebbiolo2Linux (Ubuntu 24.04.3 LTS) / x86_64  OK    OK  YES
lconwaymacOS 12.7.6 Monterey / x86_64  OK    OK  
Package 20/29HostnameOS / ArchINSTALLBUILD
rnaseqDTU 1.30.0  (landing page)
Michael Love
git_last_commit: 43ec9c9
git_last_commit_date: 2025-10-29 09:47:17 -0500
nebbiolo2Linux (Ubuntu 24.04.3 LTS) / x86_64  OK    OK  YES
lconwaymacOS 12.7.6 Monterey / x86_64  OK    OK  
Package 21/29HostnameOS / ArchINSTALLBUILD
rnaseqGene 1.34.0  (landing page)
Michael Love
git_last_commit: 5839668
git_last_commit_date: 2025-10-29 09:46:57 -0500
nebbiolo2Linux (Ubuntu 24.04.3 LTS) / x86_64  OK    OK  YES
lconwaymacOS 12.7.6 Monterey / x86_64  OK    OK  
Package 22/29HostnameOS / ArchINSTALLBUILD
RnaSeqGeneEdgeRQL 1.34.0  (landing page)
Yunshun Chen
git_last_commit: 279c21a
git_last_commit_date: 2025-10-29 09:47:00 -0500
nebbiolo2Linux (Ubuntu 24.04.3 LTS) / x86_64  OK    OK  YES
lconwaymacOS 12.7.6 Monterey / x86_64  OK    OK  
Package 23/29HostnameOS / ArchINSTALLBUILD
seqpac 1.10.0  (landing page)
Alessandro Gozzo
git_last_commit: 7b435c2
git_last_commit_date: 2025-10-29 09:47:40 -0500
nebbiolo2Linux (Ubuntu 24.04.3 LTS) / x86_64  OK    OK  YES
lconwaymacOS 12.7.6 Monterey / x86_64  OK    OK  
Package 24/29HostnameOS / ArchINSTALLBUILD
sequencing 1.34.0  (landing page)
Bioconductor Package Maintainer
git_last_commit: 4bf07e1
git_last_commit_date: 2025-10-29 09:47:03 -0500
nebbiolo2Linux (Ubuntu 24.04.3 LTS) / x86_64  OK    OK  YES
lconwaymacOS 12.7.6 Monterey / x86_64  OK    OK  
Package 25/29HostnameOS / ArchINSTALLBUILD
simpleSingleCell 1.34.0  (landing page)
Aaron Lun
git_last_commit: 990d9ea
git_last_commit_date: 2025-10-29 09:47:06 -0500
nebbiolo2Linux (Ubuntu 24.04.3 LTS) / x86_64  OK    OK  YES
lconwaymacOS 12.7.6 Monterey / x86_64  OK    OK  
Package 26/29HostnameOS / ArchINSTALLBUILD
SingscoreAMLMutations 1.26.0  (landing page)
Dharmesh D. Bhuva
git_last_commit: dfe24a2
git_last_commit_date: 2025-10-29 09:47:22 -0500
nebbiolo2Linux (Ubuntu 24.04.3 LTS) / x86_64  OK    ERROR  
lconwaymacOS 12.7.6 Monterey / x86_64  OK    ERROR  
Package 27/29HostnameOS / ArchINSTALLBUILD
spicyWorkflow 1.10.0  (landing page)
SOMS Maintainer
git_last_commit: 548913c
git_last_commit_date: 2025-10-29 09:47:43 -0500
nebbiolo2Linux (Ubuntu 24.04.3 LTS) / x86_64  OK    ERROR  
lconwaymacOS 12.7.6 Monterey / x86_64  OK    OK  
Package 28/29HostnameOS / ArchINSTALLBUILD
TCGAWorkflow 1.34.0  (landing page)
Tiago Chedraoui Silva
git_last_commit: c034464
git_last_commit_date: 2025-10-29 09:47:09 -0500
nebbiolo2Linux (Ubuntu 24.04.3 LTS) / x86_64  ERROR    ERROR  
lconwaymacOS 12.7.6 Monterey / x86_64  OK    ERROR  
Package 29/29HostnameOS / ArchINSTALLBUILD
variants 1.34.0  (landing page)
Bioconductor Package Maintainer
git_last_commit: 65d3036
git_last_commit_date: 2025-10-29 09:47:11 -0500
nebbiolo2Linux (Ubuntu 24.04.3 LTS) / x86_64  OK    OK  YES
lconwaymacOS 12.7.6 Monterey / x86_64  OK    OK