Package: highthroughputassays Version: 1.34.0 Command: /home/biocbuild/bbs-3.22-bioc/R/bin/R CMD INSTALL highthroughputassays StartedAt: 2025-11-04 13:00:22 -0500 (Tue, 04 Nov 2025) EndedAt: 2025-11-04 13:00:33 -0500 (Tue, 04 Nov 2025) EllapsedTime: 10.7 seconds RetCode: 0 Status: OK