Package: highthroughputassays Version: 1.32.0 Command: /home/biocbuild/bbs-3.21-bioc/R/bin/R CMD build --keep-empty-dirs --no-resave-data highthroughputassays StartedAt: 2025-10-10 13:04:43 -0400 (Fri, 10 Oct 2025) EndedAt: 2025-10-10 13:05:09 -0400 (Fri, 10 Oct 2025) EllapsedTime: 26.0 seconds RetCode: 0 Status: OK PackageFile: highthroughputassays_1.32.0.tar.gz PackageFileSize: 514.6 KiB