Package: generegulation Version: 1.34.0 Command: /home/biocbuild/bbs-3.22-bioc/R/bin/R CMD build --keep-empty-dirs --no-resave-data generegulation StartedAt: 2025-11-04 13:05:03 -0500 (Tue, 04 Nov 2025) EndedAt: 2025-11-04 13:06:10 -0500 (Tue, 04 Nov 2025) EllapsedTime: 67.0 seconds RetCode: 0 Status: OK PackageFile: generegulation_1.34.0.tar.gz PackageFileSize: 1.288 MiB