Package: fluentGenomics Version: 1.22.0 Command: /home/biocbuild/bbs-3.22-bioc/R/bin/R CMD INSTALL fluentGenomics StartedAt: 2025-11-04 13:00:23 -0500 (Tue, 04 Nov 2025) EndedAt: 2025-11-04 13:01:01 -0500 (Tue, 04 Nov 2025) EllapsedTime: 38.4 seconds RetCode: 0 Status: OK