Package: fluentGenomics Version: 1.20.0 Command: /Library/Frameworks/R.framework/Resources/bin/R CMD INSTALL fluentGenomics StartedAt: 2025-05-16 13:00:44 -0400 (Fri, 16 May 2025) EndedAt: 2025-05-16 13:02:39 -0400 (Fri, 16 May 2025) EllapsedTime: 115.3 seconds RetCode: 0 Status: OK