Package: fluentGenomics Version: 1.18.0 Command: /Library/Frameworks/R.framework/Resources/bin/R CMD build --keep-empty-dirs --no-resave-data fluentGenomics StartedAt: 2025-01-28 13:11:39 -0500 (Tue, 28 Jan 2025) EndedAt: 2025-01-28 13:23:58 -0500 (Tue, 28 Jan 2025) EllapsedTime: 739.4 seconds RetCode: 1 Status: ERROR PackageFile: None PackageFileSize: NA