Package: cytofWorkflow Version: 1.34.0 Command: /home/biocbuild/bbs-3.22-bioc/R/bin/R CMD build --keep-empty-dirs --no-resave-data cytofWorkflow StartedAt: 2025-11-25 13:04:45 -0500 (Tue, 25 Nov 2025) EndedAt: 2025-11-25 13:09:17 -0500 (Tue, 25 Nov 2025) EllapsedTime: 272.1 seconds RetCode: 0 Status: OK PackageFile: cytofWorkflow_1.34.0.tar.gz PackageFileSize: 6.631 MiB