Package: cytofWorkflow Version: 1.32.0 Command: /home/biocbuild/bbs-3.21-bioc/R/bin/R CMD build --keep-empty-dirs --no-resave-data cytofWorkflow StartedAt: 2025-10-14 13:04:46 -0400 (Tue, 14 Oct 2025) EndedAt: 2025-10-14 13:09:18 -0400 (Tue, 14 Oct 2025) EllapsedTime: 272.1 seconds RetCode: 0 Status: OK PackageFile: cytofWorkflow_1.32.0.tar.gz PackageFileSize: 6.575 MiB