Package: cytofWorkflow Version: 1.34.0 Maintainer: Mark D. Robinson MaintainerEmail: mark.robinson at mls.uzh.ch git_url: https://git.bioconductor.org/packages/cytofWorkflow git_branch: RELEASE_3_22 git_last_commit: 477096a git_last_commit_date: 2025-10-29 09:46:33 -0500 (Wed, 29 Oct 2025)