##############################################################################
##############################################################################
###
### Running command:
###
###   chmod a+r csawUsersGuide -R && F:\biocbuild\bbs-3.20-bioc\R\bin\R.exe CMD build --keep-empty-dirs --no-resave-data csawUsersGuide
###
##############################################################################
##############################################################################


* checking for file 'csawUsersGuide/DESCRIPTION' ... OK
* preparing 'csawUsersGuide':
* checking DESCRIPTION meta-information ... OK
* installing the package to build vignettes
* creating vignettes ... OK
* checking for LF line-endings in source and make files and shell scripts
* checking for empty or unneeded directories
* creating default NAMESPACE file
* building 'csawUsersGuide_1.22.0.tar.gz'