Package: annotation Version: 1.32.0 Command: /home/biocbuild/bbs-3.21-bioc/R/bin/R CMD build --keep-empty-dirs --no-resave-data annotation StartedAt: 2025-10-10 13:04:18 -0400 (Fri, 10 Oct 2025) EndedAt: 2025-10-10 13:09:20 -0400 (Fri, 10 Oct 2025) EllapsedTime: 302.1 seconds RetCode: 0 Status: OK PackageFile: annotation_1.32.0.tar.gz PackageFileSize: 877.8 KiB