Package: SingscoreAMLMutations Version: 1.24.0 Command: /home/biocbuild/bbs-3.21-bioc/R/bin/R CMD INSTALL SingscoreAMLMutations StartedAt: 2025-09-30 13:00:31 -0400 (Tue, 30 Sep 2025) EndedAt: 2025-09-30 13:01:18 -0400 (Tue, 30 Sep 2025) EllapsedTime: 47.1 seconds RetCode: 0 Status: OK