Package: RnaSeqGeneEdgeRQL Version: 1.30.0 Command: F:\biocbuild\bbs-3.20-bioc\R\bin\R.exe CMD INSTALL RnaSeqGeneEdgeRQL StartedAt: 2025-02-04 13:01:26 -0500 (Tue, 04 Feb 2025) EndedAt: 2025-02-04 13:01:39 -0500 (Tue, 04 Feb 2025) EllapsedTime: 12.7 seconds RetCode: 0 Status: OK