Package: GeoMxWorkflows Version: 1.12.0 Command: /home/biocbuild/bbs-3.20-bioc/R/bin/R CMD INSTALL GeoMxWorkflows StartedAt: 2025-02-07 13:00:17 -0500 (Fri, 07 Feb 2025) EndedAt: 2025-02-07 13:00:32 -0500 (Fri, 07 Feb 2025) EllapsedTime: 15.1 seconds RetCode: 0 Status: OK