Package: GeoMxWorkflows Version: 1.12.0 Command: /home/biocbuild/bbs-3.20-bioc/R/bin/R CMD build --keep-empty-dirs --no-resave-data GeoMxWorkflows StartedAt: 2025-02-07 13:04:21 -0500 (Fri, 07 Feb 2025) EndedAt: 2025-02-07 13:39:13 -0500 (Fri, 07 Feb 2025) EllapsedTime: 2091.8 seconds RetCode: 0 Status: OK PackageFile: GeoMxWorkflows_1.12.0.tar.gz PackageFileSize: 22.72 MiB