Package: GeoMxWorkflows Version: 1.14.0 Command: /home/biocbuild/bbs-3.21-bioc/R/bin/R CMD INSTALL GeoMxWorkflows StartedAt: 2025-10-03 13:00:18 -0400 (Fri, 03 Oct 2025) EndedAt: 2025-10-03 13:00:33 -0400 (Fri, 03 Oct 2025) EllapsedTime: 15.2 seconds RetCode: 0 Status: OK