Package: GeoMxWorkflows Version: 1.12.0 Command: /Library/Frameworks/R.framework/Resources/bin/R CMD INSTALL GeoMxWorkflows StartedAt: 2025-02-11 13:00:36 -0500 (Tue, 11 Feb 2025) EndedAt: 2025-02-11 13:01:24 -0500 (Tue, 11 Feb 2025) EllapsedTime: 48.6 seconds RetCode: 0 Status: OK