Package: GeoMxWorkflows Version: 1.14.0 Command: /Library/Frameworks/R.framework/Resources/bin/R CMD build --keep-empty-dirs --no-resave-data GeoMxWorkflows StartedAt: 2025-05-02 13:20:51 -0400 (Fri, 02 May 2025) EndedAt: 2025-05-02 13:29:41 -0400 (Fri, 02 May 2025) EllapsedTime: 530.6 seconds RetCode: 1 Status: ERROR PackageFile: None PackageFileSize: NA